BEGIN:VCALENDAR
VERSION:2.0
PRODID:Evento - TEC
BEGIN:VEVENT
UID:140696
DTSTAMP:20260419T223715Z
DTSTART:20230530T173000Z
DTEND:20230530T190000Z
SUMMARY:Charla presencial “Imaginarios culturales en las nuevas narrativas mexicanas” con Manolo Caro
LOCATION:Centro de Congresos del campus Monterrey
DESCRIPTION:<p><strong>Manolo Caro, </strong>productor, guionista y director de cine y teatro mexicano compartirá en este conversatorio con estudiantes, su experiencia, estilo e influencias que lo han llevado a crear exitosas obras teatrales, películas y series en las que retrata las tradiciones, creencias y valores de la cultura de la sociedad mexicana.</p>

<p>&nbsp;</p>

<p><strong>Fecha:&nbsp;</strong>30 de mayo<br />
<strong>Hora:&nbsp;</strong>12:30 horas (tiempo central de México)&nbsp;<br />
<strong>Lugar:&nbsp;</strong>Centro de Congresos, Monterrey, Nuevo León.</p>

<p>&nbsp;</p>

<p>Charla presencial. <a href="https://eventos.tec.mx/s/lt-event?language=es_MX&amp;id=a5u8X000000bTY5QAM">Regístrate aquí.</a></p>

END:VEVENT
END:VCALENDAR