BEGIN:VCALENDAR
VERSION:2.0
PRODID:Evento - TEC
BEGIN:VEVENT
UID:140691
DTSTAMP:20260419T223719Z
DTSTART:20230531T170000Z
DTEND:20230531T183000Z
SUMMARY:Inspirar para Transformar Conferencia: Alexandra Cousteau
LOCATION:La Carpa, Tec de Monterrey campus ciudad de México
DESCRIPTION:<p>A través de esta conferencia la activista y documentalista<strong> Alexandra Cousteau</strong> nos invita a concientizar acerca de los problemas globales del agua, la gestión de los recursos y el tratamiento de la contaminación.</p>

<p>Nos explica como la planificación adecuada en la ubicación de ciudades, fábricas y granjas, juega un papel fundamental para la preservación de los ecosistemas y para mantener una tierra saludable para las generaciones venideras.</p>

<p>&nbsp;</p>

<p><strong>Fecha:&nbsp;</strong>31 de mayo<br />
<strong>Hora:&nbsp;</strong>12:00 horas<br />
<strong>Lugar:&nbsp;</strong>La Carpa, campus Ciudad de México<br />
&nbsp;</p>

<p>Conferencia presencial y virtual.&nbsp;&nbsp;<a href="https://eventos.tec.mx/s/lt-event?language=es_MX&amp;id=a5u8X000000bSqQQAU#/">Regístrate aquí.</a></p>

END:VEVENT
END:VCALENDAR