BEGIN:VCALENDAR
VERSION:2.0
PRODID:Evento - TEC
BEGIN:VEVENT
UID:140661
DTSTAMP:20260419T223716Z
DTSTART:20230524T210000Z
DTEND:20230524T220000Z
SUMMARY:IFE Conference Talks - Educación orientada socialmente
LOCATION:
DESCRIPTION:<p>¿Cómo puede la educación ser el instrumento para la transformación de la sociedad? ¿Cómo se pueden diseñar nuevos enfoques educativos que respondan a los nuevos retos sociales?</p>

<p>La educación siempre ha sido un motor de cambio y transformación para la sociedad, sin embargo, cada vez nos enfrentamos a retos más difíciles y complejos que requieren de una estructura educativa flexible que se adapte rápidamente a las circunstancias.</p>

<p><strong>&nbsp;Expositores:</strong></p>

<p><strong>Jorge Membrillo-Hernández,</strong> Investigador Full Time del IFE y profesor de la Escuela de Ingeniería y Ciencias (EIC) del campus Ciudad de México (CCM)</p>

<p><strong>Patricia Olga Caratozzolo,</strong> Investigador Full Time del IFE y profesora campus Santa Fe</p>

<p><strong>Vianney Lara-Prieto,</strong> Investigadora adjunta del IFE y directora de División de Ingeniería EIC campus Monterrey</p>

<p><strong>Olga Patricia Vázquez-Villegas</strong>, Investigadora Postdoctoral del IFE CCM</p>

<p><strong>Luis Alberto Mejía-Manzano</strong>, investigador postdoctoral del IFE CCM</p>

<p>****</p>

<p><strong>IFE Conference Talks,</strong> antes conocido como las <strong>CIIE-Talks</strong>, son charlas de innovación educativa organizadas por el Instituto para el Futuro de la Educación del Tecnológico de Monterrey, en el cual se presentarán proyectos notables de la novena edición del Congreso Internacional de Innovación Educativa, CIIE 2023.</p>

<p>Para más información, vista nuestra página en transición:&nbsp;<a href="http://www.ciie.mx/?fbclid=IwAR36h2UQuiW9f1vvUQxlSli4sL7Ia6rHEVg1DBUMLAs-FAtK4bK_VxdHoHo">www.ciie.mx</a></p>

END:VEVENT
END:VCALENDAR