BEGIN:VCALENDAR
VERSION:2.0
PRODID:Evento - TEC
BEGIN:VEVENT
UID:140171
DTSTAMP:20260419T223721Z
DTSTART:20230508T140000Z
DTEND:20230509T190000Z
SUMMARY:International Conference on Obesity Research
LOCATION:Sala Mayor de Rectoría, campus Monterrey
DESCRIPTION:<p>Te invitamos al&nbsp;Congreso Internacional de Investigación en Obesidad - Investigación multidisciplinaria sobre obesidad y sobrepeso: retos y perspectivas</p>

<p>Desde años anteriores el mundo se ha enfrentado a un problema global que ha afectado a miles de personas, comunidades y familias en todos los niveles socioeconómicos: la obesidad.</p>

<p>Esto ha llevado a graves problemas de salud, sociales y económicos. Por eso, el Tecnológico de Monterrey a través de la ciencia aplicada busca encontrar soluciones de gran impacto que nos ayuden a esta problemática que afecta a nuestro país.</p>

<p>Acompáñanos al evento, escuchando las propuestas de investigación con expertos en el tema.</p>

<p><strong>Fecha</strong>: 8 y 9&nbsp;de mayo de 2023<br />
<strong>Lugar</strong>: Sala Mayor de Rectoría, Campus Monterrey<br />
<strong>Evento híbrido y sin costo</strong></p>

END:VEVENT
END:VCALENDAR