BEGIN:VCALENDAR
VERSION:2.0
PRODID:Evento - TEC
BEGIN:VEVENT
UID:139821
DTSTAMP:20260419T223511Z
DTSTART:20230511T140000Z
DTEND:20230512T230000Z
SUMMARY:Inauguración del Xignux Challenge
LOCATION:
DESCRIPTION:<p><span><span><span><strong><span><span>Fundación Xignux y el Tec de Monterrey</span></span></strong></span></span></span><span><span><span><span><span><span> te invitan a conocer proyectos que van a transformar el mundo. </span></span></span></span></span></span></p>

<p><span><span><span><span><span><span>En un <strong>reto de 24 horas</strong>, <strong>70 estudiantes seleccionados de entre 800 participantes</strong>, originarios de<strong> 8 campus </strong>y de distintas carreras profesionales, se reunirán para idear las soluciones innovadoras para los desafíos de la <strong>Agenda 2030</strong> que contribuyan a los <strong>Objetivos de Desarrollo Sostenible de la ONU.</strong>&nbsp;</span></span></span></span></span></span></p>

<p><span><span><span><span><span><span>Únete a la comunidad de líderes transformadores este <strong>11 de mayo </strong>y acompáñanos en el opening de este increíble reto.&nbsp;</span></span></span></span></span></span></p>

<p><span><span><span><span><span><span>Conéctate en punto de las 9 a.m.(hora del centro de México) en</span></span></span></span></span></span><a href="https://live.tec.mx/"><span><span><span><span><span><span> </span></span></span></span></span></span><span><span><span><span><span><span><span><span>https://live.tec.mx/</span></span></span></span></span></span></span></span></a><span><span><span><span><span><span>&nbsp;y disfruta nuestra conferencia magistral con</span></span></span></span></span></span><span><span><span><strong><span><span> Christopher Brosse,</span></span></strong></span></span></span><span><span><span><span><span><span> creador de contenido y autor del libro “La Basura No Existe. Hacia el suprarreciclaje y la Economía Circular”♻️.&nbsp;</span></span></span></span></span></span></p>

<p><span><span><span><span><span><span>¡Contamos contigo para crear un mundo más sostenible!</span></span></span></span></span></span></p>

<p>&nbsp;</p>

END:VEVENT
END:VCALENDAR