BEGIN:VCALENDAR
VERSION:2.0
PRODID:Evento - TEC
BEGIN:VEVENT
UID:139466
DTSTAMP:20260419T223714Z
DTSTART:20230414T184500Z
DTEND:20230429T020000Z
SUMMARY:Ensamble musical "Generations"
LOCATION:Arena Borregos, Centro Estudiantil campus Puebla
DESCRIPTION:<p>El Tec de Monterrey campus Puebla te invita a <em><strong>Generations,&nbsp;</strong></em><strong>un ensamble musical por diversos países y estílos.</strong></p>

<p><strong>Del miércoles 26 al viernes 28 de abril </strong>no te pierdas la oportunidad de ver en la<strong>&nbsp;Arena Borregos </strong>a <strong>220 artistas</strong> en escena.</p>

<p>Boletos en la <strong>Tec Store</strong> del<strong>&nbsp;</strong>Tec de Monterrey campus Puebla y en la liga:</p>

<p>&nbsp;<a href="https://eventos.tec.mx/s/lt-event?language=es_MX&amp;id=a5u8X000000bOE6QAM#/Entradas">www.pue.itesm.mx/generations</a>&nbsp;</p>

<p>¡Acércate al Tec!</p>

<p>¡Te esperamos!</p>

END:VEVENT
END:VCALENDAR