BEGIN:VCALENDAR
VERSION:2.0
PRODID:Evento - TEC
BEGIN:VEVENT
UID:138911
DTSTAMP:20260420T005140Z
DTSTART:20230324T223000Z
DTEND:20230325T000000Z
SUMMARY:La Defensa de la Democracia en México, una visión desde el INE
LOCATION: Sala Mayor de Rectoría del campus Monterrey.
DESCRIPTION:<p>Charla con <strong>Lorenzo Córdova</strong>, consejero presidente del Instituto Nacional Electoral.</p>

<p>Evento híbrido.</p>

<p>Sala Mayor de Rectoría / Redes sociales</p>

<p><a href="https://csocialestec.mx/landing-w/CS-DefensaDemocraciaMexico-240223.html">Regístrate aquí.</a></p>

<p>&nbsp;</p>

END:VEVENT
END:VCALENDAR