BEGIN:VCALENDAR
VERSION:2.0
PRODID:Evento - TEC
BEGIN:VEVENT
UID:138551
DTSTAMP:20260420T005139Z
DTSTART:20230322T210000Z
DTEND:20230322T220000Z
SUMMARY:Lanzamiento del Monitor de Inclusión Financiera del FAIR Center
LOCATION:
DESCRIPTION:<p>E<strong>l FAIR Center</strong> de Escuela de Negocios presenta su <strong>Monitor de Inclusión Financiera,</strong> una herramienta de análisis estadístico, accesible y de actualización permanente, que permite visualizar distintos indicadores sobre la inclusión financiera en el país.</p>

<p>&nbsp;</p>

<p>El panel de lanzamiento del Monitor de Inclusión Financiera lleva por título "Midiendo el presente hacia un futuro financiero inclusivo".</p>

<p>Miércoles 22 de marzo a las 16:00 hrs. (CST)</p>

<p>Transmisión por <strong>live.tec.mx.</strong></p>

<p>&nbsp;</p>

END:VEVENT
END:VCALENDAR