BEGIN:VCALENDAR
VERSION:2.0
PRODID:Evento - TEC
BEGIN:VEVENT
UID:138491
DTSTAMP:20260420T005144Z
DTSTART:20230223T180000Z
DTEND:20230420T180000Z
SUMMARY:Herramientas para navegar la incertidumbre | Serie de ‘webinars’ para familias empresarias
LOCATION:
DESCRIPTION:<h5>&nbsp;</h5>

<p><strong>¡Nuestra tercera serie de webinars para familias empresarias está por comenzar!</strong></p>

<p>Durante los próximos meses,&nbsp;<strong>conéctate y aprende distintas herramientas</strong>&nbsp;para fortalecer a tu familia empresaria en&nbsp;<strong>tiempos de incertidumbre</strong>&nbsp;y asegurar la continuidad de la empresa familiar.</p>

<p>El Instituto de Familias Empresarias para México y LATAM (IFEM) del Tec de Monterrey invitan.</p>

<p>&nbsp;</p>

<h3><strong>PROGRAMA</strong></h3>

<p><strong>16 mar 2023 | 13:00 h</strong></p>

<p><strong>“Family office y sus desafíos”</strong></p>

<p>Instructora: Carolina Pérez-Íñigo, gerente general del Family Office Celta Inversiones</p>

<p>&nbsp;</p>

<p><strong>20 abr 2023 | 13:00 h</strong></p>

<p><strong>“Innovación y emprendimiento”</strong></p>

<p>Instructor: Luis Felipe Cisneros, director del Centro Internacional de Empresas Familiares, en HEC Montreal</p>

<p>&nbsp;</p>

<p><strong>23 feb 2023 | 13:00 h</strong></p>

<p><strong>“Liderar para un buen gobierno”</strong></p>

<p>Instructor: Gustavo Carvajal, socio de Lansberg, Gersick Advisors y miembro del Directorio de CARVAJAL S.A.</p>

<h4>&nbsp;</h4>

<h4><br />
Regístrate en:&nbsp;<a href="https://ifem.tec.mx/webinars">https://ifem.tec.mx/webinars</a></h4>

<p>&nbsp;</p>

END:VEVENT
END:VCALENDAR