BEGIN:VCALENDAR
VERSION:2.0
PRODID:Evento - TEC
BEGIN:VEVENT
UID:138391
DTSTAMP:20260420T005142Z
DTSTART:20230301T140000Z
DTEND:20230401T045959Z
SUMMARY:Premio Periodismo 2023
LOCATION:
DESCRIPTION:<p>¿Eres estudiante de último semestre de preparatoria y tienes gusto por el periodismo?</p>

<p>¡Participa en el <strong>Premio Periodismo Tecnológico de Monterrey 2023</strong> y gana una experiencia internacional en España!</p>

<p>Cierre de convocatoria: <strong>31 de marzo de 2023</strong>.</p>

<p><br />
Regístrate ahora en: <a href="https://admision.tec.mx/premioPeriodismo/">https://admision.tec.mx/premioPeriodismo/</a></p>

<p>&nbsp;</p>

<p>&nbsp;</p>

END:VEVENT
END:VCALENDAR