BEGIN:VCALENDAR
VERSION:2.0
PRODID:Evento - TEC
BEGIN:VEVENT
UID:138221
DTSTAMP:20260420T005143Z
DTSTART:20230306T140000Z
DTEND:20230309T160000Z
SUMMARY:Cátedra INEGI
LOCATION:
DESCRIPTION:<p>INEGI y el Tec de Monterrey invita en 3 de sus campus a reflexionar sobre los siguientes temas:</p>

<p>&nbsp;</p>

<p><span><span><span><span><span><span><strong>Lunes 6 de marzo</strong></span></span></span></span></span></span></p>

<ul>
	<li><span><span><span><span><span><span>Tema: Una mirada a las viviendas de México</span></span></span></span></span></span></li>
	<li><span><span><span><span><span><span>Lugar: Auditorio de Biblioteca, campus Monterrey.</span></span></span></span></span></span></li>
	<li><span><span><span><span><span><span>Hora: de 9:00 a 11:00 hrs.</span></span></span></span></span></span></li>
</ul>

<p>&nbsp;</p>

<p><span><span><span><span><span><span><strong>Martes 7 de marzo</strong></span></span></span></span></span></span></p>

<ul>
	<li><span><span><span><span><span><span>Tema: Imágenes satelitales a tu alcance.</span></span></span></span></span></span></li>
	<li><span><span><span><span><span><span>Lugar: Aulas 1, SUM 2101</span></span></span></span></span></span></li>
	<li><span><span><span><span><span><span>Hora: de 12:00 a 14:00 hrs.</span></span></span></span></span></span></li>
</ul>

<p>&nbsp;</p>

<p><span><span><span><span><span><span><strong>Jueves 9 de marzo</strong></span></span></span></span></span></span></p>

<ul>
	<li><span><span><span><span><span><span>Tema: ¿Qué producen los negocios en México?</span></span></span></span></span></span></li>
	<li><span><span><span><span><span><span>Lugar: Auditorio 1, Centro de Congresos</span></span></span></span></span></span></li>
	<li><span><span><span><span><span><span>Hora: de 9:00 a 11:00 hrs.</span></span></span></span></span></span></li>
</ul>

<p>&nbsp;</p>

<p>También podrás seguir la transmisión a través de: <a href="https://live.tec.mx/">live.tec.mx</a></p>

END:VEVENT
END:VCALENDAR