BEGIN:VCALENDAR
VERSION:2.0
PRODID:Evento - TEC
BEGIN:VEVENT
UID:137896
DTSTAMP:20260420T005139Z
DTSTART:20230227T170000Z
DTEND:20230227T183000Z
SUMMARY:Lanzamiento del libro Empresas Mexicanas: El viaje hacia un capitalismo consciente
LOCATION:Sala Mayor de Rectoría del campus Monterrey
DESCRIPTION:<p>El <strong>Centro de Empresas Consientes</strong>, del <a href="https://tec.mx/es">Tecnológico de Monterrey</a>, te invita al lanzamiento oficial de su libro “<strong>EMPRESAS MEXICANAS, EL VIAJE HACIA UN CAPITALISMO CONSCIENTE</strong>”. Un libro que busca contribuir a acelerar la implementación de las prácticas de los negocios conscientes en México y Latino América.</p>

<p>Acompáñanos este 27 de febrero a las 12:00p.m., en el panel conformado por reconocidos líderes y coautores de este libro, en <strong>Sala Mayor de Rectorí</strong>a, del campus Monterrey, o conéctate a través de <a href="https://live.tec.mx">LIVE.TEC</a></p>

<p>&nbsp;</p>

<p>Si nos acompañarás presencialmente, te pedimos registrarte aquí ➡️ <a href="https://u22284314.ct.sendgrid.net/ls/click?upn=VNAlnhlHfTqUC685q1jmLSHlcm3NsT3rmGgkAlrTbTQTiD93GOoJR6IhW6P3AqKCUVPK_6-2BXyTb7lTAqoxXxku8oAffMICp077jK2y-2BE3-2BB9mivCiqhPuBXhRYgf279Aomw2aEm6oI-2FVLj4M1UOmLSPzuxRHRfjQGLGRmYu7u2e1Lxm2rQGj86eZc9xx7KhpwAbLfbXxfxRqR1wRBi0IIKy-2FeQo-2BgdRztjG5V42qXcGqjqi-2FHFFhhvM04A-2Bir3eywZ8MhDhoP0U2GZKDatlDWyoPBAZudDa-2B0PC1KYs7xaSQvxPcBNzVIAjxT5TDOp7QDFZjWhKiXnqj1FRrzpUHL-2BdukCVWSJDwIe60wyeaGJ6-2BZ0IYRUs5bkJfbt0RHcN-2B73UbZoabFh7TpCzL6xZ3-2FqWw5efvMR0sGXpoxe2yoVf-2Bpw48q5lyLa31px2f9rCqWcGnRLeNj4ZYWSvoeSkhm1q2juqSfsES3B-2BULBH3hM7LWaiy8lGrAT-2B48drLHRQxDg6Y0ikyHWOR6gwqTyzzDcqamago3fBcOxN0BKKNiPmUz1rOoabXrkUd9wQQnBSsFqqOkdpZDuvdJcr-2FqI9fnI2E8wLHNQ6oFzrC7hqoHZ-2F3drRJHuxTWnG3OR40-2FLTsn2DaNB2MKlJsnOlIiF5Yqi6Eq6DicQeiqT2K4Sf-2Fbhz5ISRnMYFOd0Ey3istDKg5n6f89cU1RKRaZmBwTQUsZ2-2BZxnXIlRoc-2BTlqVl75sG3LS6nELnUDcJT4V8-2BR76NQ-2F07qVZbctdMrgR9BB4t8UE35oJpzV2nSUD3JAeanHCH5uh3VVxMHbAFuDU1Askmb6xyRa6LZPkwgUIrE3lpdpt1bHkj8jpSWaIQvpXL8cx17Z5QNxars485nZno-2B5pnuRQXUkm-2F2X4rBWXfaleZG16QUM2RGjna6Qg-2FaEI5vHf3FpPkAksiEfhkDPoRGxQO-2BxbSfu-2FV2j34frgDYlrkoOONN05et02MBT0UXAOwaY9wMU9c2RM3agyKISYvCOlkdYc8ojXCDp7BZHFVkjXVqDvuT2kGz9e3OKyWtW0R-2BHyTeBBmE-3D"><u>https://tec.rs/RegistroLibroCEC</u></a></p>

END:VEVENT
END:VCALENDAR