BEGIN:VCALENDAR
VERSION:2.0
PRODID:Evento - TEC
BEGIN:VEVENT
UID:137681
DTSTAMP:20260420T005143Z
DTSTART:20220110T120000Z
DTEND:20230328T045900Z
SUMMARY:Convocatoria Premio Eugenio Garza Sada 2023
LOCATION:
DESCRIPTION:<p>Participa en las 3 categorías del <strong>Premio Eugenio Garza Sada 2023</strong>, el premio institucional más importante al que convocan <strong>Tec de Monterrey</strong> y <strong>Femsa</strong>, y que este año celebra su 30 aniversario.</p>

<p>Este premio&nbsp;se otorga cada año con el fin de perpetuar el legado de <strong>don Eugenio Garza Sada,</strong> <strong>fundador del Tecnológico de Monterrey,</strong> y quien se distinguió por ser tanto un empresario de éxito, como un activo promotor del desarrollo de su comunidad.</p>

<p>Los ganadores recibirán;</p>

<p>* En la categoría Emprendimiento social, $750 mil pesos</p>

<p>* En la categoría Liderazgo empresarial humanista, $750 mil pesos, que serán donados a alguna asociación de su elección;</p>

<p>* En la categoría Innovación social estudiantil, $500 mil pesos, de los cuales $100 mil son para el proyecto y $400 mil para una experiencia internacional.</p>

<p><a href="https://premioeugeniogarzasada.tec.mx/es">Regístrate aquí.</a></p>

<p>&nbsp;</p>

END:VEVENT
END:VCALENDAR