BEGIN:VCALENDAR
VERSION:2.0
PRODID:Evento - TEC
BEGIN:VEVENT
UID:137676
DTSTAMP:20260420T005145Z
DTSTART:20230301T170000Z
DTEND:20230301T183000Z
SUMMARY:Ceremonia de entrega del Premio Rómulo Garza
LOCATION:Centro de Congresos del Tec campus Monterrey 
DESCRIPTION:<p>El <a href="https://tec.mx/es"><strong>Tecnológico de Monterrey </strong></a>y <strong>Xignux </strong>reconocen cada año a lo mejor de la investigación y la trayectoria científica que realizan los profesores y alumnos de la Institución con el <strong>Premio a la Investigación e Innovación Rómulo Garza.</strong></p>

<p>El <strong>Premio Rómulo Garza</strong>&nbsp;<strong>2022 </strong>se entrega en el marco del <strong>Tec Science Summit</strong>, y consiste para todas las categorías en suma 400 mil pesos y la escultura RG.</p>

<p>Consta de 6 categorías: Premio Insignia, Investigación que conduce a emprendimiento, Artículos científicos, Proyectos de investigación de alumnos de PrepaTec, Proyectos de investigación de alumnos de Profesional, Proyectos de investigación de alumnos de Posgrado.</p>

<p>Sigue en <a href="https://live.tec.mx">Live Tec </a>el<strong> 1 de marzo a las 12:00 hrs.</strong> tiempo central.</p>

<p>&nbsp;</p>

<p>&nbsp;</p>

<p>&nbsp;</p>

END:VEVENT
END:VCALENDAR