BEGIN:VCALENDAR
VERSION:2.0
PRODID:Evento - TEC
BEGIN:VEVENT
UID:137671
DTSTAMP:20260420T055405Z
DTSTART:20230222T223000Z
DTEND:20230222T233000Z
SUMMARY:El futuro del trabajo: Retos en la gestión del talento | Con Mauricio Reynoso (AMEDIRH)
LOCATION:
DESCRIPTION:<p>En el episodio de febrero de la serie de webinars <strong>El Futuro del Trabajo</strong>, los expertos de #NegociosTec conversan con <strong>Mauricio Reynoso</strong>, director general de la Asociación Mexicana en Dirección de Recursos Humanos (AMEDIRH).</p>

<p>El invitado hablará sobre los <strong>des<strong>afío</strong>s actuales </strong>para los gestores de RH ante los cambios en los roles laborales en las nuevas industrias.</p>

<p>La cita es el 22 de febrero a las 17:30 horas Tiempo Central.</p>

<p>Sigue la transmisión por <a href="https://live.tec.mx">Live Tec</a></p>

<p>&nbsp;</p>

END:VEVENT
END:VCALENDAR