BEGIN:VCALENDAR
VERSION:2.0
PRODID:Evento - TEC
BEGIN:VEVENT
UID:137286
DTSTAMP:20260420T080246Z
DTSTART:20230125T223000Z
DTEND:20230125T233000Z
SUMMARY:El futuro del trabajo: El diseño de la flexibilidad laboral | Con Ana Lucía Cepeda (Beyond Work)
LOCATION:
DESCRIPTION:<p><strong>Ana Lucía Cepeda,</strong> directora y fundadora de <strong>Beyond Work</strong>, discute con expertos de la Escuela de Negocios el futuro de la flexibilidad laboral.</p>

<p>Conoce los detalles asistiendo a esta conversación.</p>

<p>Sigue la transmisión por <a href="https://live.tec.mx/">Live Tec</a></p>

END:VEVENT
END:VCALENDAR