BEGIN:VCALENDAR
VERSION:2.0
PRODID:Evento - TEC
BEGIN:VEVENT
UID:137061
DTSTAMP:20260420T080245Z
DTSTART:20230119T173000Z
DTEND:20230119T183000Z
SUMMARY:David Garza en el foro de Davos | Entrevista en línea
LOCATION:
DESCRIPTION:<p>El&nbsp;<a href="https://tec.mx/"><strong>Tec de Monterrey&nbsp;</strong></a>recibió la invitación para unirse a las actividades del&nbsp;<a href="https://es.weforum.org/events/world-economic-forum-annual-meeting-2023"><strong>Foro Económico Mundial de Davos 2023</strong></a>, convirtiéndose así en la única universidad latinoamericana con presencia oficial en la cumbre.</p>

<p><strong><a href="https://tec.mx/es/nosotros/oficina-del-rector-y-presidente-ejecutivo">David Garza</a>, rector y presidente ejecutivo,</strong>&nbsp;representará al Tec del 16 al 20 de enero en esta cumbre mundial.</p>

<p>El foro reunirá a más de&nbsp;<strong>2 mil 500&nbsp;l</strong><strong>íderes de gobiernos, empresas y sociedad civil</strong>, alrededor del tema&nbsp;<em><strong>“Cooperación en un mundo fragmentado”.</strong></em></p>

<p>El rector del Tec hablará desde Davos sobre su participación en este foro internacional.</p>

<p>Te esperamos este <strong>jueves 19 de enero, a las 12:30 hrs. tiempo del centro de México.</strong></p>

<p>&nbsp;</p>

<p>&nbsp;</p>

END:VEVENT
END:VCALENDAR