BEGIN:VCALENDAR
VERSION:2.0
PRODID:Evento - TEC
BEGIN:VEVENT
UID:136826
DTSTAMP:20260420T025611Z
DTSTART:20230228T170000Z
DTEND:20230304T040000Z
SUMMARY: Tec Science Summit 2023
LOCATION:Centro de Congresos, Tec de Monterrey campus Monterrey
DESCRIPTION:<p><strong>¡El Congreso de Investigación y Desarrollo se renueva!</strong></p>

<p>Asiste del 28 de febrero al 03 de marzo de 2023 en el Centro de Congresos del Tec campus Monterrey.</p>

<p>Te esperamos.</p>

<p>&nbsp;</p>

END:VEVENT
END:VCALENDAR