BEGIN:VCALENDAR
VERSION:2.0
PRODID:Evento - TEC
BEGIN:VEVENT
UID:135891
DTSTAMP:20260421T135101Z
DTSTART:20221208T180000Z
DTEND:20221208T190000Z
SUMMARY:Webinar | Perspectivas generacionales en las familias empresarias del Tec
LOCATION:
DESCRIPTION:<p>Asiste a nuestro webinar y conoce los resultados del estudio realizado por el<a href="https://ifem.tec.mx/es"> Instituto de Familias Empresarias para México y Latinoamérica</a>&nbsp;sobre la visión intergeneracional de los miembros de las familias empresarias de la comunidad del <a href="https://tec.mx/es">Tecnológico de Monterrey</a>.</p>

<p>Fecha: 8 de diciembre del 2022, a las 13:00 hrs. tiempo del centro de México.</p>

<p><a href="https://bit.ly/PerspectivasGeneracionalesTec">Regístrate aquí.</a></p>

<p>&nbsp;</p>

<p>&nbsp;</p>

END:VEVENT
END:VCALENDAR