BEGIN:VCALENDAR
VERSION:2.0
PRODID:Evento - TEC
BEGIN:VEVENT
UID:135841
DTSTAMP:20260421T135111Z
DTSTART:20221123T170000Z
DTEND:20221123T180000Z
SUMMARY:Premio Luis Elizondo al Sentido Humano 2022
LOCATION:Pabellón La Carreta
DESCRIPTION:<p>¡Conoce a los ganadores 2022 de las categorías Científico Tecnológico, Humanitario y Humanitario para Agrupaciones Estudiantiles!</p>

<h4>Te esperamos el día del evento; también, sigue la transmisión por&nbsp;<u><a href="http://live.tec.mx/">live.tec.mx</a></u>.</h4>

END:VEVENT
END:VCALENDAR