BEGIN:VCALENDAR
VERSION:2.0
PRODID:Evento - TEC
BEGIN:VEVENT
UID:135366
DTSTAMP:20260421T152811Z
DTSTART:20221101T130000Z
DTEND:20221201T045959Z
SUMMARY:Premio Mujer Tec | Convocatoria 2023
LOCATION:
DESCRIPTION:<p>El&nbsp;<strong>Premio Mujer Tec</strong>&nbsp;tiene como propósito reconocer y visibilizar la trayectoria, las aportaciones y el talento de las mujeres en nuestra comunidad universitaria, abriendo un espacio para compartir logros que realizan para la sociedad, la política y la economía.</p>

<p>Las candidatas al&nbsp;<strong>Premio Mujer Tec 2023</strong>&nbsp;deberán ser parte de la comunidad del Tec de Monterrey, Universidad Tecmilenio, Sorteos Tec o TecSalud. Son candidatas al&nbsp;<strong>Premio Mujer Tec 2023</strong>:</p>

<ul>
	<li>Exalumnas, de&nbsp;<em>secundaria, preparatoria, profesional o posgrado,</em>&nbsp;que hayan finalizado sus estudios en el Tecnológico de Monterrey o Universidad Tecmilenio.</li>
	<li>Alumnas, de&nbsp;<em>secundaria, preparatoria, profesional o posgrado,</em>&nbsp;inscritas en el Tecnológico de Monterrey o Universidad Tecmilenio.</li>
	<li>Profesoras activas en el Tecnológico de Monterrey o Universidad Tecmilenio.</li>
	<li>Colaboradoras activas en el Tecnológico de Monterrey, Universidad Tecmilenio, Sorteos Tec o TecSalud.&nbsp;</li>
	<li>Directivas activas en el Tecnológico de Monterrey, Universidad Tecmilenio, Sorteos Tec o TecSalud.</li>
</ul>

<h4>&nbsp;</h4>

<h4>Postúlate ahora o nomina a alguien&nbsp;<u><a href="https://premiomujer.tec.mx/es/registro">aquí</a></u>.</h4>

END:VEVENT
END:VCALENDAR