BEGIN:VCALENDAR
VERSION:2.0
PRODID:Evento - TEC
BEGIN:VEVENT
UID:135356
DTSTAMP:20260421T152809Z
DTSTART:20221115T130059Z
DTEND:20221118T030000Z
SUMMARY:INCMty 2022
LOCATION:Cintermex
DESCRIPTION:<p>Asiste al<strong> festival #1 de Emprendimiento y Negocios</strong> en Latinoamérica.</p>

<p>Conecta con inversionistas y founders de startups en nuestro festival de 10º aniversario, aunque apenas estés comenzando a emprender.</p>

<ul>
	<li>Exposición en el Startup and business Show para encontrar clientes, inversionistas, medios y más.</li>
	<li>Q&amp;A con emprendedores y emprendedoras que ya han resuelto los problemas que tú estás teniendo ahora.</li>
	<li>Networking dirigido a través de experiencias, mesas de conexión y contacto uno a uno con personas valiosas para tu crecimiento.</li>
	<li>Oportunidades de inversión con startups validadas y con iniciativas relevantes.</li>
</ul>

<p>&nbsp;
<p>Lugar: Cintermex, Monterrey, México<br />
Fechas: Del 15 a 17 de noviembre 2022</p>
</p>

<p>&nbsp;</p>

<p>&nbsp;</p>

END:VEVENT
END:VCALENDAR