BEGIN:VCALENDAR
VERSION:2.0
PRODID:Evento - TEC
BEGIN:VEVENT
UID:134916
DTSTAMP:20260421T135036Z
DTSTART:20221110T140000Z
DTEND:20221111T220000Z
SUMMARY:Feria de microempresas Transforma 2022
LOCATION:
DESCRIPTION:<p><strong>Transforma 2022</strong> es el evento de dos días que reúne al<strong> ecosistema emprendedor</strong> con instituciones expertas y proveedores de digitalización financiera para impulsarlo.</p>

<p>Aquí habrá paneles y conferencias con oportunidades de conexión entre emprendedores e interesados en emprendimiento.</p>

<p>¡Ven y conecta con el ecosistema emprendedor en la más grande feria de mypimes de México!</p>

END:VEVENT
END:VCALENDAR