BEGIN:VCALENDAR
VERSION:2.0
PRODID:Evento - TEC
BEGIN:VEVENT
UID:134881
DTSTAMP:20260421T135046Z
DTSTART:20221123T170000Z
DTEND:20221123T180000Z
SUMMARY:Ceremonia de entrega del Premio Luis Elizondo
LOCATION:Pabellón La Carreta del campus Monterrey
DESCRIPTION:<p>El&nbsp;<strong>Premio Luis Elizondo al Sentido Humano (PLE)</strong>&nbsp;fue instituido en 1967 gracias a una aportación personal realizada por el empresario y filántropo neoleonés, Luis Elizondo Lozano, para&nbsp;<strong>promover la labor científica, tecnológica, académica y humanitaria</strong>.</p>

<p>Desde entonces, el Tecnológico de Monterrey se encarga de administrarlo, así como de honrar el legado nos dejó don Luis.</p>

<p>Anualmente y a través de sus tres categorías, el&nbsp;<strong>PLE&nbsp;</strong>reconoce el trabajo de personas (estudiantes, científicos, investigadores) e instituciones (fundaciones, asociaciones) comprometidas con la&nbsp;<strong>filantropía, fraternidad humana y saber científico.</strong>&nbsp;</p>

<p><strong>El Premio Luis Elizondo</strong>&nbsp;es un importante estímulo de continuidad a los esfuerzos sociales y de investigación de sus candidatos y una plataforma de apoyo en beneficio de las comunidades mexicanas.</p>

<p>&nbsp;</p>

<p>Sigue la transmisión en línea por <a href="https://live.tec.mx/">Live Tec.</a></p>

<p>&nbsp;</p>

<p>&nbsp;</p>

<p>&nbsp;</p>

END:VEVENT
END:VCALENDAR