BEGIN:VCALENDAR
VERSION:2.0
PRODID:Evento - TEC
BEGIN:VEVENT
UID:134661
DTSTAMP:20260421T135051Z
DTSTART:20221017T120000Z
DTEND:20221020T200000Z
SUMMARY:Wellbeing 360°  
LOCATION:
DESCRIPTION:<p>Te invitamos a conectarte del <strong>17 al 20 de octubre a Wellbeing 360°</strong> para acceder a las conferencias magistrales de las personas expertas en la Ciencia del Bienestar en los ejes de<strong> </strong></p>

<ul>
	<li><strong>Organizaciones Positivas</strong></li>
	<li><strong>Familias Positivas</strong></li>
	<li><strong>Educación Positiva</strong></li>
	<li><strong>Vida con Propósito </strong></li>
	<li><strong>Ciudades en bienestar.</strong></li>
</ul>

<p>Regístrate de manera gratuita para tener acceso en vivo a las conferencias, talleres, paneles y entrevistas, con más de 40 ponentes y&nbsp;20 horas de contenido.</p>

<p>&nbsp;</p>

<p>&nbsp;</p>

END:VEVENT
END:VCALENDAR