BEGIN:VCALENDAR
VERSION:2.0
PRODID:Evento - TEC
BEGIN:VEVENT
UID:134126
DTSTAMP:20260421T135056Z
DTSTART:20221114T140000Z
DTEND:20221015T153000Z
SUMMARY:INC Family Forum
LOCATION:
DESCRIPTION:<p><span><span>El 14 y 15 de noviembre se realizará el <strong><span>INC Family Forum</span></strong>, el espacio que reúne a las familias empresarias de México y Latinoamérica.</span></span></p>

<p><span><span>La edición de este año pretende impulsar a las familias a continuar con el desarrollo de su legado; contará con <strong>conferencias magistrales</strong>, <strong><span>paneles con familias empresarias, talleres y momentos de networking.</span></strong></span></span></p>

<p><span><span>INC Family Forum “Together we Thrive” busca&nbsp;guiar&nbsp;a las familias empresarias participantes&nbsp;en&nbsp;“un viaje”&nbsp;que&nbsp;les&nbsp;<strong>dé un sentido de trascendencia</strong>&nbsp;y que permita&nbsp;<strong>construir un legado</strong>&nbsp;y un&nbsp;<strong>propósito sólido</strong>; cada momento de este foro ha sido confeccionado para dar una experiencia única.</span></span></p>

END:VEVENT
END:VCALENDAR