BEGIN:VCALENDAR
VERSION:2.0
PRODID:Evento - TEC
BEGIN:VEVENT
UID:134121
DTSTAMP:20260421T091811Z
DTSTART:20221011T180000Z
DTEND:20221011T193000Z
SUMMARY:Intervenir el futuro sembrando en el presente
LOCATION:Pabellón La Carreta
DESCRIPTION:<p>Un conversatorio sobre emprendimiento y filantropía con&nbsp;<strong>José Antonio Fernández</strong>, presidente del Consejo del&nbsp;<strong>Tec de Monterrey</strong>, y&nbsp;<strong>Carlos Álvarez,</strong>&nbsp;EXATEC destacado, CEO y fundador de The Gambrinus Company.</p>

<p>&nbsp;</p>

<p>&nbsp;</p>

<p>&nbsp;</p>

END:VEVENT
END:VCALENDAR