BEGIN:VCALENDAR
VERSION:2.0
PRODID:Evento - TEC
BEGIN:VEVENT
UID:134111
DTSTAMP:20260421T162644Z
DTSTART:20221008T150000Z
DTEND:20221016T230000Z
SUMMARY:Feria Internacional del Libro Monterrey 2022
LOCATION:Cintermex
DESCRIPTION:<p>Desde&nbsp;<strong>1989</strong>, la&nbsp;<strong>Feria Internacional del Libro Monterrey del Tecnológico de Monterrey</strong>&nbsp;es un referente para la&nbsp;<strong>promoción de la lectura, un encuentro de opiniones, una conversación de lectores, una gran oferta de libros</strong>, un espacio de actividades para la infancia y la adolescencia; encuentros de libreros, bibliotecarios y promotores de lectura; un espacio de ideas, diálogo y descubrimiento.</p>

<p>En 2022, la&nbsp;<strong>FIL MTY</strong>&nbsp;celebra su&nbsp;<strong>30.ª edición&nbsp;</strong>con más de 600 actividades. ¡No te la pierdas! Nos vemos del&nbsp;<strong>8 al 16 de octubre</strong>&nbsp;en&nbsp;<strong>Cintermex.</strong></p>

END:VEVENT
END:VCALENDAR