BEGIN:VCALENDAR
VERSION:2.0
PRODID:Evento - TEC
BEGIN:VEVENT
UID:133741
DTSTAMP:20260421T135116Z
DTSTART:20220926T110000Z
DTEND:20220930T210031Z
SUMMARY:Inscripciones locales Semana i
LOCATION:
DESCRIPTION:<p>La Semana i requiere&nbsp;<strong>trabajo intensivo e inmersión total</strong>&nbsp;de los alumnos y profesores, por lo que durante este periodo se suspenden las actividades regulares académicas del semestre.&nbsp;</p>

<p>Durante estos 5 días&nbsp;<strong>fortalece las competencias</strong>&nbsp;que necesitas para tu vida profesional y enriquece tu formación acompañado de tus profesores y compañeros</p>

<p><span lang="ES-TRAD"><span>Consulta las fechas de tu campus en <a href="https://semanai.tec.mx/es"><strong>semanai.tec.mx</strong></a></span></span></p>

END:VEVENT
END:VCALENDAR