BEGIN:VCALENDAR
VERSION:2.0
PRODID:Evento - TEC
BEGIN:VEVENT
UID:133706
DTSTAMP:20260421T172315Z
DTSTART:20221006T113000Z
DTEND:20221007T170000Z
SUMMARY:Foro internacional del Agua 2022
LOCATION:Sala Mayor de Rectoria
DESCRIPTION:<p>El Centro del Agua realizará un foro internacional<strong> Día cero, ciudades sin agua: causas, respuestas y lecciones</strong>, relacionado a la crisis hídrica que se vive en México.</p>

<p>Se presentan 10 conferencias con panelistas procedentes de 5 países, así como 20 trabajos de investigación realizados por estudiantes del Tecnológico de Monterrey.</p>

<p>Además de la audiencia presencial, se tendrá <strong>transmisión en línea.</strong></p>

<p>Se presentará el libro <strong>Agua para Monterrey.</strong></p>

<p>&nbsp;</p>

<p>Fecha: 6 y 7 de octubre, de 8:30 hrs. a 14:00 hrs.</p>

<p>Lugar: Sala Mayor de Rectoría del campus Monterrey</p>

<p>&nbsp;</p>

END:VEVENT
END:VCALENDAR