BEGIN:VCALENDAR
VERSION:2.0
PRODID:Evento - TEC
BEGIN:VEVENT
UID:133236
DTSTAMP:20260421T172316Z
DTSTART:20220907T160000Z
DTEND:20220907T170000Z
SUMMARY:¿Cómo vamos a vivir juntos? | Conferencia con Arq. Alejandro Aravena
LOCATION:Auditorio Luis Elizondo
DESCRIPTION:<p>Conferencia impartida por el&nbsp;<strong>Arq. Alejandro Aravena</strong>&nbsp;de Despacho ELEMENTAL, autor de la&nbsp;<strong>Casa de Aniversario del 213.º Tradicional Sorteo Tec</strong>&nbsp;y ganador del&nbsp;<strong>Premio Pritzker 2016</strong>.</p>

<p>Se abordarán los desafíos urbanísticos, de servicios y de cuidado del medio ambiente para la convivencia de las personas. Así como el hecho de que, como sociedad, es impostergable una reflexión individual y de comunidad para lograr el bien común.</p>

<p>&nbsp;</p>

<h4>Conéctate a la transmisión por&nbsp;<a href="https://live.tec.mx/">live.tec.mx</a>.</h4>

END:VEVENT
END:VCALENDAR