BEGIN:VCALENDAR
VERSION:2.0
PRODID:Evento - TEC
BEGIN:VEVENT
UID:133081
DTSTAMP:20260423T091037Z
DTSTART:20220905T150000Z
DTEND:20220905T160000Z
SUMMARY:Premio Eugenio Garza Sada | Ceremonia de Entrega 2022
LOCATION:Centro de Congresos del campus Monterrey
DESCRIPTION:<p>Te invitamos a la&nbsp;<strong>Ceremonia de Entrega del Premio Eugenio Garza Sada</strong>&nbsp;<strong>Edición 2022</strong>&nbsp;para&nbsp;<strong>reconocer a quienes con su compromiso, pasión y dedicación contribuyen al desarrollo de México&nbsp;</strong>mediante acciones que elevan el nivel de vida y bienestar de las comunidades.</p>

<p><span><span><span><span><span><span><span>La cita es el <strong><span>lunes 5 de septiembre</span></strong>, a las <strong><span>12:00 horas</span></strong> (CDT)</span></span></span></span></span></span></span></p>

<p><strong><span><span><span><span><span><span><span>Presencial: Centro de Congresos del campus Monterrey.</span></span></span></span></span></span></span></strong></p>

<p><strong>En línea:</strong> <a href="https://live.tec.mx/">Live Tec</a></p>

<p>&nbsp;</p>

<p>&nbsp;</p>

<h4>¡No te lo pierdas! Agéndalo en tu calendario:</h4>

<p><a href="https://egresados.exatec.tec.mx/cs/c/?cta_guid=c7d38fa5-95ae-4782-8039-e490bda5b1a0&amp;signature=AAH58kHXqbgO5JmuqCV2Lp-C0daQBsLMSg&amp;placement_guid=768a8a32-ecc1-440f-9b5a-bd598cef0337&amp;click=d34bcf48-c300-456a-ae14-830877f46920&amp;hsutk=c30993e586f8dabfb4c63d22291a054b&amp;canon=https%3A%2F%2Ftec.mx%2Fes%2Fexatec%2Feventos%2Fpremio-eugenio-garza-sada-ceremonia-de-entrega-2022&amp;utm_referrer=https%3A%2F%2Ftec.mx%2Fes%2Fexatec%2Feventos&amp;portal_id=4606735&amp;redirect_url=APefjpFLJhSIK8rLArWDLBa0RaxVJaU6r9Vr1t47tUBkPUdzLIRKR2mQcrUd2IFzvhfA2BJLVl6n4YUDCG7qs6F-1mBsPXAi0_4YC7mtCFn6LTgeLeqVcI3dIy2815RLtQY2zRaf0AdL8swfGaX1CMYlzO3B7MHaQFXF55Zhpcr-GXuO6G57XIu1vFiIJoFPO5x3FqQDLP7Zid-pqoiUTLbyiTYG91N2QnBRQ_z_W004M7O__4ObPGzzv2vaWb2QlLl5AgT0S1-hwlc_m_Oz8XML01rkfo2D7BnYus5JRGPUeF-eNyWZ74VrDW6z6ZG8Qx5UwpTy2YfPEQgbXQQFc6S804XvAXhnZjYREOg43_Bu7VaLIr5kfJpZBnZ10NwxVo_dWuJQcQkG2ZPX33iDi3wJ8fvIVE59dg&amp;__hstc=115681945.c30993e586f8dabfb4c63d22291a054b.1657139143502.1662040528219.1662055865479.206&amp;__hssc=115681945.26.1662055865479&amp;__hsfp=4151869950">Outlook o Calendar (iOS)</a></p>

<p><a href="https://egresados.exatec.tec.mx/cs/c/?cta_guid=bd1f622c-cb02-4006-b5bc-fc9786b9e334&amp;signature=AAH58kENiufyUXHAUTI9H-R_5QXFRYsPSw&amp;placement_guid=458ae8cd-b46a-4108-aa11-5eb3c553ffdd&amp;click=96e507c8-0265-4497-9cff-c5e5266603a9&amp;hsutk=c30993e586f8dabfb4c63d22291a054b&amp;canon=https%3A%2F%2Ftec.mx%2Fes%2Fexatec%2Feventos%2Fpremio-eugenio-garza-sada-ceremonia-de-entrega-2022&amp;utm_referrer=https%3A%2F%2Ftec.mx%2Fes%2Fexatec%2Feventos&amp;portal_id=4606735&amp;redirect_url=APefjpHoty_PIdX1kZr3v_HlJkCR5IPLwjlLlYD3-FvEttGQlQLB4GbTgEQ0yMI1Emeq4bE-NL_9oT_M1Y14Coi2lw18PfV3kYZxYz7fCP7Gkb0xSl5OHt1BwOcG954Cdm3328EikmnEGaKbqoPj0kbc2NE6jjBb35o4VwQCsDYiYebcjkX68yHVP1f4r3nVg-7WJZivlqPtfvCNQ3zXuJkDRJ4iZ5oQPh6eFrujBnJkn8u442uz2KBKyVy1nikZ3n9yrOiNPbpTwE3ChN5QhVHifN6lt5nNyycnHj2CeIUhFkBXx-LTyIiLpIlRfqjXOSbyNhx4KQNZqaatRxHfxD_3aCHH9wEGzjDpbojdfKiaIFMz63BXab-ymg0qfi2_Zkw3TsOHantN4_T1Afc2CVIYk0X-PZiJEE0OFzybgfGs36VBmSeGXTSpvyVzWAzrJRVybZBPyqaTi2EwqX6Gl8HcprsJAtyBss80HwHFMSbpHBy_jxTkjbo&amp;__hstc=115681945.c30993e586f8dabfb4c63d22291a054b.1657139143502.1662040528219.1662055865479.206&amp;__hssc=115681945.26.1662055865479&amp;__hsfp=4151869950">Google Calendar</a></p>

<p>&nbsp;</p>

<p><a href="https://premioeugeniogarzasada.tec.mx/">Conoce más del evento aquí</a>.</p>

END:VEVENT
END:VCALENDAR