BEGIN:VCALENDAR
VERSION:2.0
PRODID:Evento - TEC
BEGIN:VEVENT
UID:132756
DTSTAMP:20260423T043029Z
DTSTART:20220831T203000Z
DTEND:20220831T213000Z
SUMMARY:La perspectiva de los servicios financieros | Con Hermann Schauer (Grupo Afirme)
LOCATION:
DESCRIPTION:<p>Conversación con<strong> Hermann Schauer,</strong> director ejecutivo de<strong> Capital Humano de Afirme Grupo Financiero,</strong> sobre cómo el sector de servicios financieros está enfrentando las tendencias y evoluciones en las relaciones entre colaboradores y organizaciones.</p>

<h4>¡Que no se te pase! Agrega el evento a tu calendario:</h4>

<p><a href="https://egresados.exatec.tec.mx/cs/c/?cta_guid=8911ac24-17be-49d8-b7e1-1b8ebbf77721&amp;signature=AAH58kHb8ps3UenE8rTM9cw-IG0c8vmNEg&amp;placement_guid=3e5818f7-25de-4ec1-beaf-84d5c7a9a3e7&amp;click=06f388ff-60d3-4676-b024-3fc72f5e037e&amp;hsutk=c30993e586f8dabfb4c63d22291a054b&amp;canon=https%3A%2F%2Ftec.mx%2Fes%2Fexatec%2Feventos%2Fla-perspectiva-de-los-servicios-financieros-con-hermann-schauer-grupo-afirme&amp;utm_referrer=https%3A%2F%2Fwww.google.com%2F&amp;portal_id=4606735&amp;redirect_url=APefjpGXh2q5XX34o1oqDbAixVcSqH2P5g_cP2PZs1dXhg0K_QdaYSzSCMOTmebxyvI29FV2W9DAuS0Jmk1UYyUZ4x7rJQ444IMoJ_-Ji9QIcZZBNGMk2DG6S5aI7J3YueSzuCNt8YB97jntvKduBafgdfY9bwKgfy_h4pB7yRXRTole6mA_iNVjoGNNsCBf9kCRFP7L_3S6_63SDTY6gEZCaMXKVzO1vbPysdoc0usIvxlDUxLc0olPTCV4wqmNCgL7Toasfoe_wJYIwKz2zwmHyaWyLHMHxFLZBcL0sgZ_na5P_RJCb7l6Gd5vH0M9Hkz77iW7BziLZ4AAbGo_TaA3pj9Mr-0UkiLcCi5o8Tw-kNEYAFwV3PDVa4_BkKCRnjLA8Q-vvbHVIoAnurMxnMzOpZjMCpl7d3bQRq5iHMceefpAC2jcfJqK6a_JeNoww3GnsRH3FmHIE3iPyvlMxSA0-89lgzgyZkRWMPGJbH3-DlVqPij1A0I&amp;__hstc=115681945.c30993e586f8dabfb4c63d22291a054b.1657139143502.1661298759322.1661352787783.178&amp;__hssc=115681945.2.1661352787783&amp;__hsfp=4151869950">Google Calendar</a></p>

<p><a href="https://egresados.exatec.tec.mx/cs/c/?cta_guid=1ce0038d-71c8-4e57-8ad1-31c040178de8&amp;signature=AAH58kEi_9lnrIXdHdjfqU92wzPUyW3GeQ&amp;placement_guid=40f465f6-1a11-4d43-ad55-6e58a71160bf&amp;click=a434e798-b3e2-44fa-af1e-e2e6f7416130&amp;hsutk=c30993e586f8dabfb4c63d22291a054b&amp;canon=https%3A%2F%2Ftec.mx%2Fes%2Fexatec%2Feventos%2Fla-perspectiva-de-los-servicios-financieros-con-hermann-schauer-grupo-afirme&amp;utm_referrer=https%3A%2F%2Fwww.google.com%2F&amp;portal_id=4606735&amp;redirect_url=APefjpEs3TBU4NEEzhui8WRy5DrSVbXcBOLGtYm2K7aEMZkmpBN0xqSSlzfY4GpJomgXhL-mNhoRoa_iXj6qIeLJeD_CHRlBfjQLxwwqJUmPdEnpmqtoPk9pLvypxjr0P1jjm0gs-lCeLg1NRB1LSPVef7FzD_EZJY-LeU2Cyb9O9G28TaY405YCaiOVU2bjFx0rb_cxMx05IFprKOAqxrSYP42XsJJz_8jeAIPgntFf_dGU9BDIezsTnJs_jmjaZgn2pjHjuUxP1TV0DoSBwXlBJEjRQ77Dm8LakcPBgcpiSRjD0YabKMAFoaemIjzs8E6AHUJn421odKyQxb8Ca-HnvME8vq5Tiabeo4fG_SoJhD7ZDybDTosbLatQGkzllBU9FBWuLJgqed35WPV2FwF19JUdyY9S-jtGQuBb_4EWPUsRh3efKL8lAIOEBcxJmJdITeEFkxtDojejB5uSkvO0KhM2pNu3vw&amp;__hstc=115681945.c30993e586f8dabfb4c63d22291a054b.1657139143502.1661298759322.1661352787783.178&amp;__hssc=115681945.2.1661352787783&amp;__hsfp=4151869950">Outlook o Calendar (iOS)</a></p>

<h4>&nbsp;</h4>

<h4>Conéctate a la transmisión el día del evento por&nbsp;<a href="https://live.tec.mx/">live.tec</a>.</h4>

END:VEVENT
END:VCALENDAR