BEGIN:VCALENDAR
VERSION:2.0
PRODID:Evento - TEC
BEGIN:VEVENT
UID:132656
DTSTAMP:20260423T043019Z
DTSTART:20220822T190000Z
DTEND:20220823T203000Z
SUMMARY:INSPIRA 2022. Las y los jóvenes en América Latina forjando un futuro próspero para todos
LOCATION:
DESCRIPTION:<p>Diálogo "Las y los jóvenes en América Latina forjando un futuro próspero para todos" con <strong>José Antonio Fernández, </strong>presidente del Consejo del Tec de Monterrey, y <strong>Luis Alberto Moreno,</strong> expresidente del Banco Interamericano de Desarrollo.</p>

<p>Conéctate a la transmisión el día del evento por&nbsp;<a href="https://live.tec.mx/">live.tec</a>.</p>

END:VEVENT
END:VCALENDAR