BEGIN:VCALENDAR
VERSION:2.0
PRODID:Evento - TEC
BEGIN:VEVENT
UID:132541
DTSTAMP:20260423T091042Z
DTSTART:20220817T163000Z
DTEND:20220817T173000Z
SUMMARY:Guyland: Ese lugar peligroso donde los jóvenes se hacen hombres
LOCATION:
DESCRIPTION:<p><span><span><span>Te esperamos en esta gran charla donde <strong>Michael Kimmel</strong>, sociólogo y catedrático estadounidense especializado en estudios de género nos platicará sobre “Guyland: Ese lugar peligroso donde los jóvenes se hacen hombres”.</span></span></span></p>

<p><span><span><span><span><span>Este evento se transmitirá en: </span></span></span><span><span><a href="https://nam04.safelinks.protection.outlook.com/?url=https%3A%2F%2Flive.tec.mx%2F&amp;data=05%7C01%7CSara.Gonzalez.S%40tecsalud.mx%7C89dc1555128a407e3d9308da7aeded2e%7Cc65a3ea60f7c400b89345a6dc1705645%7C0%7C0%7C637957459548354824%7CUnknown%7CTWFpbGZsb3d8eyJWIjoiMC4wLjAwMDAiLCJQIjoiV2luMzIiLCJBTiI6Ik1haWwiLCJXVCI6Mn0%3D%7C3000%7C%7C%7C&amp;sdata=KbzbxPv0o4%2BJARpwO5IUW95IDP1XuScDcCwkEBiF5js%3D&amp;reserved=0">https://live.tec.mx</a></span></span> </span></span></p>

<p>&nbsp;</p>

END:VEVENT
END:VCALENDAR