BEGIN:VCALENDAR
VERSION:2.0
PRODID:Evento - TEC
BEGIN:VEVENT
UID:132531
DTSTAMP:20260423T091032Z
DTSTART:20220818T170000Z
DTEND:20220818T180000Z
SUMMARY:Webinar Obesidad: Retos de la política pública
LOCATION:
DESCRIPTION:<p><span><span><span><span><span>El <em>Institute for Obesity Research</em> te invita a unirte al webinar <strong>Obesidad: Retos de la política pública</strong>, en el que <strong>se sumarán lideres internacionales</strong>, entre ellos:</span></span></span></span></span></p>

<ul>
	<li><span><span><span><span><span><strong>Dr. Julio Frenk</strong>, presidente de la Universidad de Miami</span></span></span></span></span></li>
	<li><span><span><span><span><span><strong>Mtra. Amanda Glassman</strong>, VP ejecutiva del Center for Global Development y CEO de GDC Europa</span></span></span></span></span></li>
	<li><span><span><span><span><span><strong>Dr. Guillermo Torre,</strong> presidente de TecSalud y vicepresidente de Investigación del Tec de Monterrey</span></span></span></span></span></li>
	<li><span><span><span><span><span>&nbsp;<strong>Dr. Gustavo Merino</strong>, líder de la Unidad de Políticas Públicas del Institute for Obesity Research y de la iniciativa de Política Pública y Salud de la Escuela de Gobierno y Transformación Pública del Tecnológico de Monterrey</span></span></span></span></span></li>
</ul>

<p><span><span><span><span><span>Estos expertos analizarán el tema de la obesidad y sus retos en la política pública del país. </span></span></span></span></span></p>

<p><span><span><strong><span><span><span>Día:</span></span></span></strong><span><span><span> jueves 18 de agosto de 2022</span></span></span></span></span></p>

<p><span><span><strong><span><span><span>Hora:</span></span></span></strong><span><span><span> 14:00 horas</span></span></span></span></span></p>

<p><span><span><span><span><span>Este evento se transmitirá en: </span></span></span><span><span><a href="https://nam04.safelinks.protection.outlook.com/?url=https%3A%2F%2Flive.tec.mx%2F&amp;data=05%7C01%7CSara.Gonzalez.S%40tecsalud.mx%7C89dc1555128a407e3d9308da7aeded2e%7Cc65a3ea60f7c400b89345a6dc1705645%7C0%7C0%7C637957459548354824%7CUnknown%7CTWFpbGZsb3d8eyJWIjoiMC4wLjAwMDAiLCJQIjoiV2luMzIiLCJBTiI6Ik1haWwiLCJXVCI6Mn0%3D%7C3000%7C%7C%7C&amp;sdata=KbzbxPv0o4%2BJARpwO5IUW95IDP1XuScDcCwkEBiF5js%3D&amp;reserved=0">https://live.tec.mx</a></span></span> </span></span></p>

<p>Regístrate en <a dir="ltr" href="https://t.co/h0dmyaQd40">https://bit.ly/3PhGSud</a></p>

<p>&nbsp;</p>

<p>&nbsp;</p>

END:VEVENT
END:VCALENDAR