BEGIN:VCALENDAR
VERSION:2.0
PRODID:Evento - TEC
BEGIN:VEVENT
UID:132326
DTSTAMP:20260423T043024Z
DTSTART:20220819T120000Z
DTEND:20220819T200000Z
SUMMARY:Congreso internacional del Institute of Advanced Materials for Sustainable Manufacturing
LOCATION:Pabellón La Carreta
DESCRIPTION:<p><strong>Soluciones científicas innovadora</strong>s para el descubrimiento de materiales avanzados con el fin de lograr una <strong>manufactura sustentable.</strong></p>

<p><strong>Evento híbrido y presencial.</strong></p>

<p>Lugar: Pabellón La Carreta del campus Monterrey.<br />
<br />
<a href="https://eventos.tec.mx/s/lt-event?language=es_MX&amp;id=a5u8X000001pV15QAE"><strong>Regístrate aquí</strong></a></p>

END:VEVENT
END:VCALENDAR