BEGIN:VCALENDAR
VERSION:2.0
PRODID:Evento - TEC
BEGIN:VEVENT
UID:132321
DTSTAMP:20260423T091027Z
DTSTART:20220808T200000Z
DTEND:20220808T213000Z
SUMMARY:Ceremonia de bienvenida - Líderes del Mañana
LOCATION:
DESCRIPTION:<p>Únete a la ceremonia de bienvenida de la novena generación de Líderes del Mañana, programa de becas del 100% para estudiar en el Tec de Monterrey, dirigida a jóvenes talentosos.</p>

<p>Tranmisión: Lunes 8 de agosto a las 17:00 horas, tiempo central de México por <a href="https://live.tec.mx/"><strong>Live Tec.</strong></a></p>

END:VEVENT
END:VCALENDAR