BEGIN:VCALENDAR
VERSION:2.0
PRODID:Evento - TEC
BEGIN:VEVENT
UID:132291
DTSTAMP:20260423T091122Z
DTSTART:20220818T120000Z
DTEND:20220818T140000Z
SUMMARY:Presentación del Reporte de Iniciativas Sociales 2020-2021 
LOCATION:
DESCRIPTION:<p><span><span><span><span><span><span>Conoce los aportes de los<strong> Objetivos de Desarrollo Sostenible </strong>de la Agenda 2030 de la ONU de nuestra comunidad<strong> Tec de Monterrey, TecSalud y Tecmilenio.</strong></span></span></span></span></span></span><strong><span><span><span><span><span><span>&nbsp;&nbsp;&nbsp; </span></span></span></span></span></span></strong></p>

<p><span><span><span><span><span><span>El Reporte de Iniciativas Sociales es un proyecto que permite identificar, reconocer, dar visibilidad y medir el <strong>resultado de las acciones </strong>realizadas por la comunidad del Tec de Monterrey y Tecmilenio, que busquen generar una <strong>transformación social y el desarrollo sostenible </strong>de las personas.</span></span></span></span></span></span></p>

<p><span><span><span><span><span><span>Este reporte es una <strong>evidencia de la contribución</strong> de la comunidad del Tecnológico de Monterrey y Tecmilenio, a los<strong> 17 Objetivos de Desarrollo Sostenible</strong> de las Naciones Unidas y a sus metas.</span></span></span></span></span></span></p>

<p><span><span><span><span><span><span>Ve la transmisión por: <strong>Live.tec.mx</strong></span></span></span></span></span></span></p>

<p>&nbsp;</p>

<p><span><span><span><span><span><span>Más información: </span></span></span></span></span></span><a href="https://tec.mx/es/florecimiento-humano/impacto-social"><span><span><span><span><span><span><span><span>https://tec.mx/es/florecimiento-humano/impacto-social</span></span></span></span></span></span></span></span></a></p>

END:VEVENT
END:VCALENDAR