BEGIN:VCALENDAR
VERSION:2.0
PRODID:Evento - TEC
BEGIN:VEVENT
UID:132046
DTSTAMP:20260423T201258Z
DTSTART:20220727T210000Z
DTEND:20220727T220000Z
SUMMARY:El futuro del trabajo: La perspectiva de los negocios | Con Luis Cuéllar (presidente Goodyear México)
LOCATION:
DESCRIPTION:<p>Conversemos con&nbsp;<strong>Luis Cuéllar</strong>,&nbsp;<strong>Presidente de Goodyear México</strong>, sobre las tendencias y evoluciones actuales en las relaciones entre colaboradores y organizaciones, desde la visión de las empresas.</p>

<p>¡Que no se te pase! La cita es este miércoles 27 de julio a las 18:00 hrs CDT.<br />
<br />
Agrega este evento a tu calendario:</p>

<p><a href="https://egresados.exatec.tec.mx/cs/c/?cta_guid=a3434c6d-49b6-46e6-abe6-746a68bb68d3&amp;signature=AAH58kHoYMUX9VFQrzv5QPgWogoX4vMwqA&amp;placement_guid=1599c652-c702-4f81-9115-23e5eb269643&amp;click=c18bb48b-fcf5-401a-9b31-679f0f1e9cb6&amp;hsutk=c30993e586f8dabfb4c63d22291a054b&amp;canon=https%3A%2F%2Ftec.mx%2Fes%2Fexatec%2Feventos%2Fel-futuro-del-trabajo-la-perspectiva-de-los-negocios-con-luis-cuellar-presidente&amp;portal_id=4606735&amp;redirect_url=APefjpHNjxWpMMZu5XiQPXBAt_rUQMMtbzoh9-UMVaCEGrwMyRP6Kp62i3WM9OYU2t-WRe24OvKYpYIb3ePn5gqD-VTcRaXEfF-E-_SgKVtyhyK_IxODEkUgvvH9HjMYbgtvpR7TjwvGLUDXSqRD44gtLIQ7FTOZWLpLcbwJmhnseQ0Yz0hW1c4gD4GKOGFOVXzXoDieXvkhtQZl1A3jh9Pcq6Yx1zukKs_1FhrYNvBM5nSxFYamztl3K5syTobn1_8d8PpdGVxlgQmaZ9EqAi7wBS7eQxmeeTUZvEeGd4CMWAzzKxy9DFqRwpMeC8SpqXTsnDLzJFp3kZY4Z-VcUIaFhPZZ37IKN4eeWhcAY7WuBzZ14rRA-9fxP1bejGHc4hyPWQeZsuOWENcPDJ2v3HQBdxxQyfyjbzYOEE1-dvOhDB6w6NH3VhmwM3lMf-fckHolo2wne47pfXRlfVY3KrNrWwuq9P3yzOvX2faVfeSWP3oAGsATFOBCy6cxbAyD_9gj-HFcRx3qg1FzWN6qwwS_ZWKuYjD3Bw&amp;__hstc=115681945.c30993e586f8dabfb4c63d22291a054b.1657139143502.1658416716474.1658420108189.74&amp;__hssc=115681945.6.1658420108189&amp;__hsfp=514928620">Outlook o Calendar (iOS)</a></p>

<p><a href="https://egresados.exatec.tec.mx/cs/c/?cta_guid=1feace43-1259-4574-bb79-32bb6a496b72&amp;signature=AAH58kH7LQlOgTZsAt8bvzBdyseIFuyyuA&amp;placement_guid=9d3af9c9-b0e8-4bb8-a086-77e20d8b4b3d&amp;click=c91139c1-933c-46db-853a-aa93828be6c2&amp;hsutk=c30993e586f8dabfb4c63d22291a054b&amp;canon=https%3A%2F%2Ftec.mx%2Fes%2Fexatec%2Feventos%2Fel-futuro-del-trabajo-la-perspectiva-de-los-negocios-con-luis-cuellar-presidente&amp;portal_id=4606735&amp;redirect_url=APefjpEHEC4XTCSnA95Oh912PyCsOJFnykkDPWB8SG0ft4NkjB7E5P-_57C1F4J1SVdI3S7uqRLV6CbnJUuH4ilEaGb3rCUFnuuohLstV4iTdAhq0xZXE6crkbUBgOVCGk8iNiWOHxkTbCjyf3-6ueclLcVSC0f7vyhmGo6CzQwHQBT5B7oTmt5iy94uyEaCiCyyn6sC2DRwjT7KMDxnmadz6xc4KTXIVLsy7QjFH798OqEFTIQ-R4FZM8RcvB46EA89iN7eN4NNSdLs9O2uKsA_-L9doPvcjhRqxfJAfFL3KeUTG9YwLr_ct2Sx0OdiiSZ5Y5WVuEoJdLhQPEEMM7UETnVAU-DhFHp2SZTiLlGTu3-Jxn0AhtGYoqd0ZADTOlKZjKtfjbjjvTQgL7RXbQ9FKAAigI2z7MaIH7MGSgoDZp0taWXceRyhAQ1QQYb1ujwqG3ripYC7rOYFjwXYzgMFTEmKzg0E_w&amp;__hstc=115681945.c30993e586f8dabfb4c63d22291a054b.1657139143502.1658416716474.1658420108189.74&amp;__hssc=115681945.6.1658420108189&amp;__hsfp=514928620">Google Calendar</a></p>

<h4>&nbsp;</h4>

<h4>O sigue&nbsp;<a href="https://live.tec.mx/">aquí</a>&nbsp;la transmisión en línea en el día y la hora señaladas. (Live Tec)<br />
<br />
&nbsp;</h4>

END:VEVENT
END:VCALENDAR