BEGIN:VCALENDAR
VERSION:2.0
PRODID:Evento - TEC
BEGIN:VEVENT
UID:131876
DTSTAMP:20260423T201259Z
DTSTART:20220712T220000Z
DTEND:20220730T025900Z
SUMMARY:Sé ponente en CIIE 2023
LOCATION:
DESCRIPTION:<p>¿Eres profesor, investigador universitario o especialista en educación?</p>

<p>Participa como ponente en el<strong> Congreso Internacional de Innovación Educativa 2023</strong>, organizado por el <a href="https://tec.mx/es"><strong>Tec de Monterrey.</strong></a></p>

<p><strong>El 9º Congreso Internacional de Innovación Educativa del Tecnológico de Monterrey</strong>&nbsp;acepta los siguientes tipos de contribución:</p>

<ol>
	<li>Ponencias de investigación</li>
	<li>Ponencias de innovación</li>
	<li>Paneles</li>
	<li>Presentación de libros</li>
	<li>Mesas de networking</li>
	<li>Conferencia EdTech</li>
</ol>

<p><br />
<strong>Fecha límite para enviar tu contribución: 29 de julio.</strong><br />
<br />
<br />
Conoce las <a href="https://ciie.itesm.mx/es/tipos-de-contribuciones/">características de las participaciones aquí.</a></p>

END:VEVENT
END:VCALENDAR