BEGIN:VCALENDAR
VERSION:2.0
PRODID:Evento - TEC
BEGIN:VEVENT
UID:131851
DTSTAMP:20260423T201256Z
DTSTART:20220701T030000Z
DTEND:20221016T025959Z
SUMMARY:Convocatoria FAIR FINTECH Lab 
LOCATION:
DESCRIPTION:<p>&nbsp;</p>

<p>¿Cuentas con un&nbsp;<strong>emprendimiento consciente de tecnología/innovación financiera</strong>&nbsp;y quisieras impulsarlo en una&nbsp;<strong>incubadora con asesoramiento y conexión de expertos</strong>?</p>

<p>¡Esta es tu oportunidad!&nbsp;<strong>Participa en FAIR FINTECH Lab 2022</strong>&nbsp;<strong>y contribuye</strong>&nbsp;al crecimiento de la digitalización empresarial &nbsp;en nuestro país.</p>

<p><a href="https://docs.google.com/forms/d/e/1FAIpQLSd0xKTV1ZC1hkBT-D6BpWCYslc22iWIiPDZtC2W4U_CUw1FCw/viewform"><u>Regístrate aquí</u></a>.</p>

<p>O&nbsp;<a href="https://drive.google.com/uc?id=1VbvEKLh3sikWjBqTmtQzd45aPasxdh1n&amp;export=download&amp;authuser=0"><u>descarga aquí</u></a>&nbsp;la&nbsp;<strong>convocatoria completa</strong>.</p>

<h3>&nbsp;</h3>

END:VEVENT
END:VCALENDAR