BEGIN:VCALENDAR
VERSION:2.0
PRODID:Evento - TEC
BEGIN:VEVENT
UID:131486
DTSTAMP:20260423T201257Z
DTSTART:20220629T220000Z
DTEND:20220629T233000Z
SUMMARY:Domina el arte de la parrilla con Juan Soler
LOCATION:
DESCRIPTION:<p>En este taller, <strong>Juan Soler </strong>nos compartirá&nbsp;<strong><em>tips</em>&nbsp;de asado, cortes, temperatura</strong> y más información de interés para ser el mejor anfitrión parrillero.</p>

<p>También, nos platicará de la <strong>importancia de la educación</strong> y de compartir tiempo de calidad con la familia.</p>

<p>Entre sus anécdotas, destacará el equilibrio que integra a su vida como padre de familia y celebridad, así de cómo vivió el cambio en la convivencia familiar durante la pandemia.</p>

<p><a href="https://docs.google.com/forms/d/1RMzIESs-9fyEDq6qOOIW-RQH6sB2lSnm5h9v3s6T73w/viewform?edit_requested=true">Regístrate aquí.</a></p>

END:VEVENT
END:VCALENDAR