BEGIN:VCALENDAR
VERSION:2.0
PRODID:Evento - TEC
BEGIN:VEVENT
UID:129961
DTSTAMP:20260423T201256Z
DTSTART:20220513T100000Z
DTEND:20220521T025959Z
SUMMARY:Inscripciones Torneo Borregos Esports Trends
LOCATION:
DESCRIPTION:<p>¡El primer torneo de <strong>VALORANT </strong>de Borregos Gaming está aquí!</p>

<p>Arma tu equipo y demuestren ser los mejores.</p>

<p>Las inscripciones son del 13 al 20 de mayo. Recuerden que al menos un integrante del equipo deberá ser <strong>estudiante Tec.</strong></p>

<p>Inscríbete en:&nbsp;<a dir="ltr" href="https://t.co/Fg7llOIzjD" rel="noopener noreferrer" role="link" target="_blank">http://tec.mx/borregos/gaming</a></p>

<p>&nbsp;</p>

<h4>Descripción General:</h4>

<ul>
	<li>Plataforma: PC</li>
	<li>Jugadores: 5 principales y 2 suplentes</li>
	<li>Servidor: LAN</li>
	<li>Mapa:&nbsp;Ascent, Bind, Breeze, Fracture, Haven, Icebox, Split.</li>
	<li>Modo de Juego: Estándar</li>
	<li>Formato: Eliminación Directa al mejor de 3 .</li>
</ul>

<h4>Premios</h4>

<ul>
	<li>1er lugar: Laptop con valor aproximado de $23 mil MXN</li>
	<li>2do lugar: Monitor&nbsp;con valor aproximado de $5 mil MXN</li>
	<li>3er lugar: Teclado con valor aproximado de $3 mil MXN</li>
</ul>

<p><em><strong>Los premios son por integrante del equipo.</strong></em></p>

<p>&nbsp;</p>

<p>{"preview_thumbnail":"/sites/default/files/styles/video_embed_wysiwyg_preview/public/video_thumbnails/uAbGhstKmDE.jpg?itok=mdr9tbHS","video_url":"https://www.youtube.com/watch?v=uAbGhstKmDE","settings":{"responsive":1,"width":"854","height":"480","autoplay":0},"settings_summary":["Embedded Video (Adaptable)."]}</p>

END:VEVENT
END:VCALENDAR