BEGIN:VCALENDAR
VERSION:2.0
PRODID:Evento - TEC
BEGIN:VEVENT
UID:129376
DTSTAMP:20260423T201303Z
DTSTART:20220503T193751Z
DTEND:20220601T023500Z
SUMMARY:Convocatoria Premio Luis Elizondo 2022
LOCATION:
DESCRIPTION:<p>El Premio Luis Elizondo al Sentido Humano reconoce a personas e instituciones por su aportación científica en beneficio de la sociedad, y por su gran labor humanitaria a favor de las comunidades.</p>

<p>Dirigido a personas que participan en actividades de filantropía, o de investigación social.</p>

<p>Categorías:</p>

<ul>
	<li><strong>Científico y Tecnológico al Sentido Humano:</strong>&nbsp;reconoce y recompensa a personas físicas que mejoran las condiciones y calidad de vida de los mexicanos mediante trabajos y descubrimientos científicos o educativos.</li>
	<li><strong>Categoría Humanitario:&nbsp;</strong>honra a las personas físicas y morales que han realizado actos heroicos u&nbsp;obras de asistencialismo, filantrópicas o de caridad encaminadas a la&nbsp;labor social para salvar o a auxiliar vidas humanas.</li>
	<li><strong>Categoría Humanitario para Agrupaciones Estudiantiles:</strong> premia a grupos estudiantiles&nbsp;que han realizado actos filantrópicos o caritativos, así como una extraordinaria labor humanitaria en beneficio de las comunidades de nuestro país.</li>
</ul>

<p>Límite de postulaciones: 31 de mayo de 2022.</p>

<p>&nbsp;</p>

<p>&nbsp;</p>

END:VEVENT
END:VCALENDAR