BEGIN:VCALENDAR
VERSION:2.0
PRODID:Evento - TEC
BEGIN:VEVENT
UID:127556
DTSTAMP:20260423T232349Z
DTSTART:20220324T190000Z
DTEND:20220324T203000Z
SUMMARY:Conversatorio del presidente del MIT, Rafael Reif, con José Antonio Fernández
LOCATION:Auditorio de la BiblioTEC
DESCRIPTION:<p>Asiste al conversatorio con&nbsp;<strong>Rafael Reif</strong>, presidente del Instituto Tecnológico de Massachusetts (MIT, por sus siglas en inglés) con José Antonio Fernández, presidente del Consejo del Tec de Monterrey.</p>

<p>Este conversatorio tendrá lugar el jueves 24 de marzo a las 14:00 horas, en el Auditorio de la Biblioteca del campus Monterrey</p>

<p>Para asistir presencialmente, <a href="https://docs.google.com/forms/d/e/1FAIpQLSfZF-FGQLcrv4YOkka7USVdMrneLw3Kc_8slIshk1CNlKY1hw/viewform">regístrate aquí.</a></p>

<p>&nbsp;</p>

<h2><strong>Registrate aquí</strong></h2>

<p>&nbsp;</p>

<p>&nbsp;</p>

END:VEVENT
END:VCALENDAR