BEGIN:VCALENDAR
VERSION:2.0
PRODID:Evento - TEC
BEGIN:VEVENT
UID:127466
DTSTAMP:20260423T232347Z
DTSTART:20220415T220000Z
DTEND:20220415T230000Z
SUMMARY:Convocatoria Premio Eugenio Garza Sada 2022
LOCATION:
DESCRIPTION:<p>El&nbsp;<strong>Premio Eugenio Garza Sada&nbsp;</strong>fomenta el&nbsp;<strong>liderazgo y emprendimiento social&nbsp;</strong>de personas, asociaciones y estudiantes cuyos logros contribuyen a transformar y dar bienestar a las comunidades.</p>

<p><span><span><span><span><span>El premio</span></span><strong><span><span>&nbsp;</span></span></strong><span><span>cuenta con tres categorías: <strong>Emprendimiento social</strong>,<strong> Liderazgo empresarial humanista</strong> e <strong>Innovación social estudiantil.</strong></span></span></span></span></span></p>

<p><span><span><span><span><span>La<strong> fecha límite </strong>para postular proyectos en la primera categoría es el 15 de marzo, en la segunda categoría es el 31 del mismo mes y para la tercera es el 15 de abril.&nbsp;</span></span></span></span></span></p>

<p><span><span><span><span><span>Los premios para los ganadores de las tres categorías suman</span></span><strong><span><span>&nbsp;$2 millones de pesos.&nbsp;</span></span></strong></span></span></span></p>

<p>Consulta la convocatoria completa en <a href="https://premioeugeniogarzasada.tec.mx/es/convocatoria"><strong>esta liga.</strong></a></p>

END:VEVENT
END:VCALENDAR