BEGIN:VCALENDAR
VERSION:2.0
PRODID:Evento - TEC
BEGIN:VEVENT
UID:125681
DTSTAMP:20260423T234737Z
DTSTART:20220302T150000Z
DTEND:20220305T000000Z
SUMMARY:EmpleaTec 2022 | Feria virtual de empleo
LOCATION:
DESCRIPTION:<p>Te invitamos al&nbsp;<strong>evento de conexión laboral más importante</strong>&nbsp;del Tec de Monterrey:&nbsp;<strong>#EmpleaTec</strong>, con la participación de empresas y organizaciones que ofrecerán diversas oportunidades de desempeño profesional para ti.</p>

<p><a href="https://empleatec22.com/"><span><span><span>Haz clic aquí para prerregistrarte, antes del 02 de marzo.</span></span></span></a></p>

<p><span><span><span>Recuerda ingresar con tu<strong> correo @exatec.tec.mx</strong>. Si aún no lo tienes, <a href="https://tec.mx/es/exatec/solicita-tu-cuenta-de-acceso-mitec-egresados">solicítalo aquí.</a></span></span></span></p>

END:VEVENT
END:VCALENDAR