BEGIN:VCALENDAR
VERSION:2.0
PRODID:Evento - TEC
BEGIN:VEVENT
UID:125676
DTSTAMP:20260423T234738Z
DTSTART:20220302T140000Z
DTEND:20220304T233000Z
SUMMARY:52° Congreso de Investigación y Desarrollo
LOCATION:
DESCRIPTION:<p>El&nbsp;<strong>Congreso de Investigación y Desarrollo del Tecnológico de Monterrey</strong>&nbsp;te invita a su edición híbrida en 2022, que busca formar, innovar y trascender el conocimiento a nuestra comunidad científica.</p>

<p>Evento sin costo.</p>

<p><a href="https://congresodeinvestigacion.tec.mx/?_ga=2.103670976.1548812648.1645455089-326636397.1641344083"><strong>Regístrate aquí.</strong></a></p>

END:VEVENT
END:VCALENDAR