BEGIN:VCALENDAR
VERSION:2.0
PRODID:Evento - TEC
BEGIN:VEVENT
UID:125671
DTSTAMP:20260423T234740Z
DTSTART:20220224T180000Z
DTEND:20220224T190000Z
SUMMARY:Creando organizaciones diversas e igualitarias | Charlas de Dignidad Humana
LOCATION:
DESCRIPTION:<p>siste a esta conversación entre&nbsp;<strong>Aideé Sánchez Riancho</strong>&nbsp;(Diversity Lead de Accenture México),&nbsp;<strong>Mildred Mendoza Michelena&nbsp;</strong>(psicóloga especialista en violencia contra las mujeres) y&nbsp;<strong>Zinia Padilla&nbsp;</strong>(Directora de Cultura Organizacional del TEC).</p>

<p>Sigue la transmisión por <a href="https://live.tec.mx/">Live Tec</a></p>

END:VEVENT
END:VCALENDAR